BEGIN:VCALENDAR
VERSION:2.0
PRODID:-//https://stjohncondos.com///NONSGML kigkonsult.se iCalcreator 2.10.15//
METHOD:PUBLISH
BEGIN:VEVENT
UID:20260422T135938UTC-2734VRESd0@https://stjohncondos.com/
DTSTAMP:20260422T135938Z
DESCRIPTION:Discounted Price - $8\,500/week!\n&nbsp\;&nbsp\;{loadmoduleid 2
 43}\n&nbsp\; https://stjohncondos.com/discounted-villa-rentals-st-john-usv
 i/event/168-three-bedroom-bay-vista-villa-8-500-week
DTSTART:20270122T160000Z
DTEND:20270129T100000Z
LOCATION:The Westin St John Resort Villas (1101-1511 Hummingbird Way\, Cruz
  Bay\, St. John Island\, 00830)
SUMMARY:Three Bedroom Bay Vista Villa - $8\,500/week!
URL:https://stjohncondos.com/discounted-villa-rentals-st-john-usvi/event/16
 8-three-bedroom-bay-vista-villa-8-500-week
END:VEVENT
END:VCALENDAR
