BEGIN:VCALENDAR
VERSION:2.0
PRODID:-//https://stjohncondos.com///NONSGML kigkonsult.se iCalcreator 2.10.15//
METHOD:PUBLISH
BEGIN:VEVENT
UID:20260422T125451UTC-4719nbuWMB@https://stjohncondos.com/
DTSTAMP:20260422T125451Z
DESCRIPTION:DISCOUNTED PRICE - $500 for the night!\n&nbsp\;{loadmoduleid 21
 5}\n&nbsp\;\nPLEASE NOTE:&nbsp\;&nbsp\;This is&nbsp\;NOT&nbsp\;a complete 
 list&nbsp\;of villas we have in our rental inventory.&nbsp\;\nWe have many
  others\, including others that have been&nbsp\;discounted\, just not as m
 uch.&nbsp\; Please contact us for information about these.\nWant to stay u
 pdated on all of our Discounted Villas? Sign up for our newsletter&nbsp\;H
 ERE! https://stjohncondos.com/discounted-villa-rentals-st-john-usvi/event/
 157-one-bedroom-virgin-grand-townhouse-villa-500-for-the-night
DTSTART:20260521T160000Z
DTEND:20260522T100000Z
LOCATION:The Westin St John Resort Villas (1101-1511 Hummingbird Way\, Cruz
  Bay\, St. John Island\, 00830)
SUMMARY:One Bedroom Virgin Grand Townhouse Villa -  $500 for the night!
URL:https://stjohncondos.com/discounted-villa-rentals-st-john-usvi/event/15
 7-one-bedroom-virgin-grand-townhouse-villa-500-for-the-night
END:VEVENT
END:VCALENDAR
