BEGIN:VCALENDAR
VERSION:2.0
PRODID:-//https://stjohncondos.com///NONSGML kigkonsult.se iCalcreator 2.10.15//
METHOD:PUBLISH
BEGIN:VEVENT
UID:20260422T125012UTC-80250o6NRG@https://stjohncondos.com/
DTSTAMP:20260422T125012Z
DESCRIPTION:DISCOUNTED PRICE - $5\,755/Week\n&nbsp\;{loadmoduleid 245}\n&nb
 sp\;\nPLEASE NOTE:&nbsp\;&nbsp\;This is&nbsp\;NOT&nbsp\;a complete list&nb
 sp\;of villas we have in our rental inventory.&nbsp\;\nWe have many others
 \, including others that have been&nbsp\;discounted\, just not as much.&nb
 sp\; Please contact us for information about these.\nWant to stay updated 
 on all of our Discounted Villas? Sign up for our newsletter&nbsp\;HERE! ht
 tps://stjohncondos.com/discounted-villa-rentals-st-john-usvi/event/128-two
 -bedroom-bay-vista-loft-villa-5-755-week
DTSTART:20260516T160000Z
DTEND:20260523T100000Z
LOCATION:The Westin St John Resort Villas (1101-1511 Hummingbird Way\, Cruz
  Bay\, St. John Island\, 00830)
SUMMARY:Two Bedroom Bay Vista Loft Villa - $5\,755/week!
URL:https://stjohncondos.com/discounted-villa-rentals-st-john-usvi/event/12
 8-two-bedroom-bay-vista-loft-villa-5-755-week
END:VEVENT
END:VCALENDAR
