BEGIN:VCALENDAR
VERSION:2.0
PRODID:-//https://stjohncondos.com///NONSGML kigkonsult.se iCalcreator 2.10.15//
METHOD:PUBLISH
BEGIN:VEVENT
UID:20260422T125302UTC-4087K3uPdx@https://stjohncondos.com/
DTSTAMP:20260422T125302Z
DESCRIPTION:DISCOUNTED PRICE - $3\,290!\n&nbsp\;{loadmoduleid 207}\n&nbsp\;
 \nPLEASE NOTE:&nbsp\;&nbsp\;This is&nbsp\;NOT&nbsp\;a complete list&nbsp\;
 of villas we have in our rental inventory.&nbsp\;\nWe have many others\, i
 ncluding others that have been&nbsp\;discounted\, just not as much.&nbsp\;
  Please contact us for information about these.\n&nbsp\; https://stjohncon
 dos.com/discounted-villa-rentals-st-john-usvi/event/109-two-bedroom-coral-
 vista-loft-villa-3-290-for-4-nights
DTSTART:20260701T160000Z
DTEND:20260705T100000Z
LOCATION:The Westin St John Resort Villas (1101-1511 Hummingbird Way\, Cruz
  Bay\, St. John Island\, 00830)
SUMMARY:Two Bedroom Coral Vista Loft Villa - $3\,290/for 4 nights!
URL:https://stjohncondos.com/discounted-villa-rentals-st-john-usvi/event/10
 9-two-bedroom-coral-vista-loft-villa-3-290-for-4-nights
END:VEVENT
END:VCALENDAR
