BEGIN:VCALENDAR
VERSION:2.0
PRODID:-//https://stjohncondos.com///NONSGML kigkonsult.se iCalcreator 2.10.15//
METHOD:PUBLISH
BEGIN:VEVENT
UID:20260422T155234UTC-6826VgGUvZ@https://stjohncondos.com/
DTSTAMP:20260422T155234Z
DESCRIPTION:Pool Villa Discounted $2\,850 for three nights!\n&nbsp\;{loadmo
 duleid 211}&nbsp\; https://stjohncondos.com/available-villa-rental-in-st-j
 ohn-usvi/event/66-three-bedroom-virgin-grand-pool-villa-bldg-41-or-42-disc
 ounted-2-850-for-three-nights
DTSTART:20260628T160000Z
DTEND:20260701T100000Z
LOCATION:The Westin St John Resort Villas (1101-1511 Hummingbird Way\, Cruz
  Bay\, St. John Island\, 00830)
SUMMARY:Three Bedroom Virgin Grand Pool Villa - Bldg 41 or 42 Discounted $2
 \,850 for three nights!
URL:https://stjohncondos.com/available-villa-rental-in-st-john-usvi/event/6
 6-three-bedroom-virgin-grand-pool-villa-bldg-41-or-42-discounted-2-850-for
 -three-nights
END:VEVENT
END:VCALENDAR
