BEGIN:VCALENDAR
VERSION:2.0
PRODID:-//https://stjohncondos.com///NONSGML kigkonsult.se iCalcreator 2.10.15//
METHOD:PUBLISH
BEGIN:VEVENT
UID:20260422T154520UTC-6556FEUU2v@https://stjohncondos.com/
DTSTAMP:20260422T154520Z
DESCRIPTION:Discounted Price - $8\,995/week!\n&nbsp\;&nbsp\;{loadmoduleid 2
 43}\n&nbsp\; https://stjohncondos.com/available-villa-rental-in-st-john-us
 vi/event/171-three-bedroom-bay-vista-villa-8-995-week
DTSTART:20270227T160000Z
DTEND:20270306T100000Z
LOCATION:The Westin St John Resort Villas (1101-1511 Hummingbird Way\, Cruz
  Bay\, St. John Island\, 00830)
SUMMARY:Three Bedroom Bay Vista Villa - $8\,995/week!
URL:https://stjohncondos.com/available-villa-rental-in-st-john-usvi/event/1
 71-three-bedroom-bay-vista-villa-8-995-week
END:VEVENT
END:VCALENDAR
